Package: messina Version: 1.46.0 Command: /home/biocbuild/bbs-3.22-bioc/R/bin/R CMD check --install=check:messina.install-out.txt --library=/home/biocbuild/bbs-3.22-bioc/R/site-library --timings messina_1.46.0.tar.gz StartedAt: 2025-11-15 01:26:26 -0500 (Sat, 15 Nov 2025) EndedAt: 2025-11-15 01:30:51 -0500 (Sat, 15 Nov 2025) EllapsedTime: 264.3 seconds RetCode: 0 Status: WARNINGS CheckDir: messina.Rcheck Warnings: 1