Package: messina Version: 1.46.0 Command: /home/biocbuild/bbs-3.22-bioc/R/bin/R CMD build --keep-empty-dirs --no-resave-data --md5 messina StartedAt: 2025-11-13 18:35:52 -0500 (Thu, 13 Nov 2025) EndedAt: 2025-11-13 18:37:10 -0500 (Thu, 13 Nov 2025) EllapsedTime: 78.1 seconds RetCode: 0 Status: OK PackageFile: messina_1.46.0.tar.gz PackageFileSize: 298.8 KiB