Package: messina Version: 1.46.0 Command: /Library/Frameworks/R.framework/Resources/bin/R CMD build --keep-empty-dirs --no-resave-data messina StartedAt: 2025-11-03 17:39:07 -0500 (Mon, 03 Nov 2025) EndedAt: 2025-11-03 17:40:40 -0500 (Mon, 03 Nov 2025) EllapsedTime: 92.7 seconds RetCode: 0 Status: OK PackageFile: messina_1.46.0.tar.gz PackageFileSize: 297.2 KiB