Package: messina Version: 1.46.0 Command: rm -rf messina.buildbin-libdir && mkdir messina.buildbin-libdir && /Users/biocbuild/BBS/utils/build-universal.sh messina_1.46.0.tar.gz /Library/Frameworks/R.framework/Resources/bin/R messina.buildbin-libdir StartedAt: 2025-11-04 01:48:32 -0500 (Tue, 04 Nov 2025) EndedAt: 2025-11-04 01:49:07 -0500 (Tue, 04 Nov 2025) EllapsedTime: 35.5 seconds RetCode: 0 Status: OK PackageFile: messina_1.46.0.tgz PackageFileSize: 538 KiB