Package: messina Version: 1.44.0 Command: /home/biocbuild/R/R/bin/R CMD INSTALL messina StartedAt: 2025-10-09 20:19:29 -0000 (Thu, 09 Oct 2025) EndedAt: 2025-10-09 20:20:05 -0000 (Thu, 09 Oct 2025) EllapsedTime: 35.9 seconds RetCode: 0 Status: OK