Package: messina Version: 1.44.0 Command: /home/biocbuild/R/R/bin/R CMD build --keep-empty-dirs --no-resave-data messina StartedAt: 2025-10-10 02:13:58 -0000 (Fri, 10 Oct 2025) EndedAt: 2025-10-10 02:15:54 -0000 (Fri, 10 Oct 2025) EllapsedTime: 116.0 seconds RetCode: 0 Status: OK PackageFile: messina_1.44.0.tar.gz PackageFileSize: 292.4 KiB