Package: meshr Version: 2.16.0 Command: /home/biocbuild/R/R/bin/R CMD INSTALL meshr StartedAt: 2025-11-10 21:38:35 -0000 (Mon, 10 Nov 2025) EndedAt: 2025-11-10 21:39:04 -0000 (Mon, 10 Nov 2025) EllapsedTime: 29.1 seconds RetCode: 0 Status: OK