Package: meshr Version: 2.16.0 Command: /home/biocbuild/bbs-3.22-bioc/R/bin/R CMD build --keep-empty-dirs --no-resave-data --md5 meshr StartedAt: 2025-11-11 18:37:35 -0500 (Tue, 11 Nov 2025) EndedAt: 2025-11-11 18:37:58 -0500 (Tue, 11 Nov 2025) EllapsedTime: 23.0 seconds RetCode: 0 Status: OK PackageFile: meshr_2.16.0.tar.gz PackageFileSize: 1002 KiB