Package: meshr Version: 2.14.0 Command: /Library/Frameworks/R.framework/Resources/bin/R CMD INSTALL meshr StartedAt: 2025-10-09 15:53:03 -0400 (Thu, 09 Oct 2025) EndedAt: 2025-10-09 15:53:47 -0400 (Thu, 09 Oct 2025) EllapsedTime: 44.7 seconds RetCode: 0 Status: OK