Package: meshr Version: 2.14.0 Command: /Library/Frameworks/R.framework/Resources/bin/R CMD build --keep-empty-dirs --no-resave-data meshr StartedAt: 2025-10-13 20:19:53 -0400 (Mon, 13 Oct 2025) EndedAt: 2025-10-13 20:20:47 -0400 (Mon, 13 Oct 2025) EllapsedTime: 54.6 seconds RetCode: 0 Status: OK PackageFile: meshr_2.14.0.tar.gz PackageFileSize: 1002 KiB