Package: meshr Version: 2.14.0 Command: /Library/Frameworks/R.framework/Resources/bin/R CMD INSTALL meshr StartedAt: 2025-09-25 15:51:11 -0400 (Thu, 25 Sep 2025) EndedAt: 2025-09-25 15:51:35 -0400 (Thu, 25 Sep 2025) EllapsedTime: 24.1 seconds RetCode: 0 Status: OK