Package: meshes Version: 1.36.0 Command: rm -rf meshes.buildbin-libdir && mkdir meshes.buildbin-libdir && /Users/biocbuild/BBS/utils/build-universal.sh meshes_1.36.0.tar.gz /Library/Frameworks/R.framework/Resources/bin/R meshes.buildbin-libdir StartedAt: 2025-11-04 01:48:26 -0500 (Tue, 04 Nov 2025) EndedAt: 2025-11-04 01:49:06 -0500 (Tue, 04 Nov 2025) EllapsedTime: 40.2 seconds RetCode: 0 Status: OK PackageFile: meshes_1.36.0.tgz PackageFileSize: 1.296 MiB