Package: meshes Version: 1.34.0 Command: /home/biocbuild/R/R/bin/R CMD INSTALL meshes StartedAt: 2025-10-06 21:06:03 -0000 (Mon, 06 Oct 2025) EndedAt: 2025-10-06 21:06:37 -0000 (Mon, 06 Oct 2025) EllapsedTime: 34.7 seconds RetCode: 0 Status: OK