Package: meshes Version: 1.34.0 Command: /home/biocbuild/R/R/bin/R CMD build --keep-empty-dirs --no-resave-data meshes StartedAt: 2025-10-07 02:18:11 -0000 (Tue, 07 Oct 2025) EndedAt: 2025-10-07 02:18:47 -0000 (Tue, 07 Oct 2025) EllapsedTime: 36.0 seconds RetCode: 0 Status: OK PackageFile: meshes_1.34.0.tar.gz PackageFileSize: 923.6 KiB