Package: meshes Version: 1.36.0 Command: /Library/Frameworks/R.framework/Resources/bin/R CMD INSTALL meshes StartedAt: 2025-11-20 18:40:08 -0500 (Thu, 20 Nov 2025) EndedAt: 2025-11-20 18:40:38 -0500 (Thu, 20 Nov 2025) EllapsedTime: 30.2 seconds RetCode: 0 Status: OK