Package: meshes Version: 1.36.0 Command: /Library/Frameworks/R.framework/Resources/bin/R CMD build --keep-empty-dirs --no-resave-data meshes StartedAt: 2025-11-21 04:25:24 -0500 (Fri, 21 Nov 2025) EndedAt: 2025-11-21 04:25:58 -0500 (Fri, 21 Nov 2025) EllapsedTime: 33.2 seconds RetCode: 0 Status: OK PackageFile: meshes_1.36.0.tar.gz PackageFileSize: 922.1 KiB