Package: meshes Version: 1.36.0 Command: rm -rf meshes.buildbin-libdir && mkdir meshes.buildbin-libdir && /Users/biocbuild/BBS/utils/build-universal.sh meshes_1.36.0.tar.gz /Library/Frameworks/R.framework/Resources/bin/R meshes.buildbin-libdir StartedAt: 2025-11-23 09:37:33 -0500 (Sun, 23 Nov 2025) EndedAt: 2025-11-23 09:38:19 -0500 (Sun, 23 Nov 2025) EllapsedTime: 45.4 seconds RetCode: 0 Status: OK PackageFile: meshes_1.36.0.tgz PackageFileSize: 1.296 MiB