Package: memes Version: 1.18.0 Command: /home/biocbuild/bbs-3.22-bioc/R/bin/R CMD INSTALL memes StartedAt: 2025-10-31 15:33:26 -0400 (Fri, 31 Oct 2025) EndedAt: 2025-10-31 15:33:42 -0400 (Fri, 31 Oct 2025) EllapsedTime: 16.1 seconds RetCode: 0 Status: OK