Package: memes Version: 1.18.0 Command: /home/biocbuild/bbs-3.22-bioc/R/bin/R CMD build --keep-empty-dirs --no-resave-data --md5 memes StartedAt: 2025-10-31 18:41:14 -0400 (Fri, 31 Oct 2025) EndedAt: 2025-10-31 18:42:08 -0400 (Fri, 31 Oct 2025) EllapsedTime: 54.1 seconds RetCode: 0 Status: OK PackageFile: memes_1.18.0.tar.gz PackageFileSize: 1.027 MiB