Package: megadepth Version: 1.20.0 Command: /home/biocbuild/bbs-3.22-bioc/R/bin/R CMD INSTALL megadepth StartedAt: 2025-11-14 15:39:22 -0500 (Fri, 14 Nov 2025) EndedAt: 2025-11-14 15:39:33 -0500 (Fri, 14 Nov 2025) EllapsedTime: 10.6 seconds RetCode: 0 Status: OK