Package: mdqc Version: 1.72.0 Command: /home/biocbuild/bbs-3.22-bioc/R/bin/R CMD build --keep-empty-dirs --no-resave-data --md5 mdqc StartedAt: 2025-11-13 18:34:38 -0500 (Thu, 13 Nov 2025) EndedAt: 2025-11-13 18:34:45 -0500 (Thu, 13 Nov 2025) EllapsedTime: 7.0 seconds RetCode: 0 Status: OK PackageFile: mdqc_1.72.0.tar.gz PackageFileSize: 259.3 KiB