Package: mdqc Version: 1.72.0 Command: /Library/Frameworks/R.framework/Resources/bin/R CMD INSTALL mdqc StartedAt: 2025-11-10 15:01:33 -0500 (Mon, 10 Nov 2025) EndedAt: 2025-11-10 15:01:39 -0500 (Mon, 10 Nov 2025) EllapsedTime: 5.6 seconds RetCode: 0 Status: OK