Package: mdqc Version: 1.72.0 Command: /Library/Frameworks/R.framework/Resources/bin/R CMD build --keep-empty-dirs --no-resave-data mdqc StartedAt: 2025-11-10 16:55:08 -0500 (Mon, 10 Nov 2025) EndedAt: 2025-11-10 16:55:12 -0500 (Mon, 10 Nov 2025) EllapsedTime: 4.1 seconds RetCode: 0 Status: OK PackageFile: mdqc_1.72.0.tar.gz PackageFileSize: 258.6 KiB