Package: mdqc Version: 1.72.0 Command: rm -rf mdqc.buildbin-libdir && mkdir mdqc.buildbin-libdir && /Users/biocbuild/BBS/utils/build-universal.sh mdqc_1.72.0.tar.gz /Library/Frameworks/R.framework/Resources/bin/R mdqc.buildbin-libdir StartedAt: 2025-11-10 23:25:48 -0500 (Mon, 10 Nov 2025) EndedAt: 2025-11-10 23:25:50 -0500 (Mon, 10 Nov 2025) EllapsedTime: 2.1 seconds RetCode: 0 Status: OK PackageFile: mdqc_1.72.0.tgz PackageFileSize: 297.6 KiB