Package: mdp Version: 1.30.0 Command: /home/biocbuild/bbs-3.22-bioc/R/bin/R CMD INSTALL mdp StartedAt: 2025-11-11 15:12:22 -0500 (Tue, 11 Nov 2025) EndedAt: 2025-11-11 15:12:51 -0500 (Tue, 11 Nov 2025) EllapsedTime: 28.8 seconds RetCode: 0 Status: OK