Package: mdp Version: 1.30.0 Command: /home/biocbuild/bbs-3.22-bioc/R/bin/R CMD build --keep-empty-dirs --no-resave-data --md5 mdp StartedAt: 2025-11-11 18:36:30 -0500 (Tue, 11 Nov 2025) EndedAt: 2025-11-11 18:36:51 -0500 (Tue, 11 Nov 2025) EllapsedTime: 21.0 seconds RetCode: 0 Status: OK PackageFile: mdp_1.30.0.tar.gz PackageFileSize: 4.444 MiB