Package: mdp Version: 1.30.0 Command: /Library/Frameworks/R.framework/Resources/bin/R CMD INSTALL mdp StartedAt: 2025-11-03 15:14:54 -0500 (Mon, 03 Nov 2025) EndedAt: 2025-11-03 15:15:29 -0500 (Mon, 03 Nov 2025) EllapsedTime: 35.1 seconds RetCode: 0 Status: OK