Package: mbkmeans Version: 1.26.0 Command: /home/biocbuild/bbs-3.22-bioc/R/bin/R CMD INSTALL mbkmeans StartedAt: 2025-11-11 15:23:00 -0500 (Tue, 11 Nov 2025) EndedAt: 2025-11-11 15:23:48 -0500 (Tue, 11 Nov 2025) EllapsedTime: 48.0 seconds RetCode: 0 Status: OK