Package: mbkmeans Version: 1.26.0 Command: /home/biocbuild/bbs-3.22-bioc/R/bin/R CMD check --install=check:mbkmeans.install-out.txt --library=/home/biocbuild/bbs-3.22-bioc/R/site-library --timings mbkmeans_1.26.0.tar.gz StartedAt: 2025-11-17 01:17:32 -0500 (Mon, 17 Nov 2025) EndedAt: 2025-11-17 01:23:01 -0500 (Mon, 17 Nov 2025) EllapsedTime: 329.3 seconds RetCode: 0 Status: OK CheckDir: mbkmeans.Rcheck Warnings: 0