Package: mbkmeans Version: 1.26.0 Command: /home/biocbuild/bbs-3.22-bioc/R/bin/R CMD build --keep-empty-dirs --no-resave-data --md5 mbkmeans StartedAt: 2025-11-11 18:35:15 -0500 (Tue, 11 Nov 2025) EndedAt: 2025-11-11 18:36:45 -0500 (Tue, 11 Nov 2025) EllapsedTime: 90.1 seconds RetCode: 0 Status: OK PackageFile: mbkmeans_1.26.0.tar.gz PackageFileSize: 293.8 KiB