Package: mbkmeans Version: 1.26.0 Command: /Library/Frameworks/R.framework/Resources/bin/R CMD build --keep-empty-dirs --no-resave-data mbkmeans StartedAt: 2025-11-03 17:37:15 -0500 (Mon, 03 Nov 2025) EndedAt: 2025-11-03 17:38:44 -0500 (Mon, 03 Nov 2025) EllapsedTime: 89.1 seconds RetCode: 0 Status: OK PackageFile: mbkmeans_1.26.0.tar.gz PackageFileSize: 268.6 KiB