Package: mbkmeans Version: 1.26.0 Command: rm -rf mbkmeans.buildbin-libdir && mkdir mbkmeans.buildbin-libdir && /Users/biocbuild/BBS/utils/build-universal.sh mbkmeans_1.26.0.tar.gz /Library/Frameworks/R.framework/Resources/bin/R mbkmeans.buildbin-libdir StartedAt: 2025-11-04 01:48:09 -0500 (Tue, 04 Nov 2025) EndedAt: 2025-11-04 01:49:15 -0500 (Tue, 04 Nov 2025) EllapsedTime: 66.7 seconds RetCode: 0 Status: OK PackageFile: mbkmeans_1.26.0.tgz PackageFileSize: 444.9 KiB