Package: mbkmeans Version: 1.24.0 Command: /home/biocbuild/R/R/bin/R CMD INSTALL mbkmeans StartedAt: 2025-10-13 20:35:38 -0000 (Mon, 13 Oct 2025) EndedAt: 2025-10-13 20:36:52 -0000 (Mon, 13 Oct 2025) EllapsedTime: 74.1 seconds RetCode: 0 Status: OK