Package: mbQTL Version: 1.10.0 Command: /home/biocbuild/bbs-3.22-bioc/R/bin/R CMD build --keep-empty-dirs --no-resave-data --md5 mbQTL StartedAt: 2025-11-13 18:33:56 -0500 (Thu, 13 Nov 2025) EndedAt: 2025-11-13 18:35:01 -0500 (Thu, 13 Nov 2025) EllapsedTime: 65.1 seconds RetCode: 0 Status: OK PackageFile: mbQTL_1.10.0.tar.gz PackageFileSize: 1.776 MiB