Package: mastR Version: 1.10.0 Command: /home/biocbuild/bbs-3.22-bioc/R/bin/R CMD build --keep-empty-dirs --no-resave-data --md5 mastR StartedAt: 2025-11-11 18:34:11 -0500 (Tue, 11 Nov 2025) EndedAt: 2025-11-11 18:36:30 -0500 (Tue, 11 Nov 2025) EllapsedTime: 139.1 seconds RetCode: 0 Status: OK PackageFile: mastR_1.10.0.tar.gz PackageFileSize: 4.178 MiB