Package: mastR Version: 1.10.0 Command: /Library/Frameworks/R.framework/Resources/bin/R CMD INSTALL mastR StartedAt: 2025-11-10 15:12:32 -0500 (Mon, 10 Nov 2025) EndedAt: 2025-11-10 15:12:48 -0500 (Mon, 10 Nov 2025) EllapsedTime: 16.6 seconds RetCode: 0 Status: OK