Package: mastR Version: 1.10.0 Command: /Library/Frameworks/R.framework/Resources/bin/R CMD build --keep-empty-dirs --no-resave-data mastR StartedAt: 2025-11-10 16:53:48 -0500 (Mon, 10 Nov 2025) EndedAt: 2025-11-10 16:54:50 -0500 (Mon, 10 Nov 2025) EllapsedTime: 61.7 seconds RetCode: 0 Status: OK PackageFile: mastR_1.10.0.tar.gz PackageFileSize: 4.126 MiB