Package: maskBAD Version: 1.54.0 Command: /home/biocbuild/bbs-3.22-bioc/R/bin/R CMD build --keep-empty-dirs --no-resave-data --md5 maskBAD StartedAt: 2025-11-11 18:33:44 -0500 (Tue, 11 Nov 2025) EndedAt: 2025-11-11 18:35:00 -0500 (Tue, 11 Nov 2025) EllapsedTime: 76.1 seconds RetCode: 0 Status: OK PackageFile: maskBAD_1.54.0.tar.gz PackageFileSize: 1.542 MiB