Package: maskBAD Version: 1.54.0 Command: /Library/Frameworks/R.framework/Resources/bin/R CMD INSTALL maskBAD StartedAt: 2025-11-10 15:30:53 -0500 (Mon, 10 Nov 2025) EndedAt: 2025-11-10 15:30:58 -0500 (Mon, 10 Nov 2025) EllapsedTime: 4.4 seconds RetCode: 0 Status: OK