Package: maskBAD Version: 1.54.0 Command: /Library/Frameworks/R.framework/Resources/bin/R CMD build --keep-empty-dirs --no-resave-data maskBAD StartedAt: 2025-11-10 16:53:36 -0500 (Mon, 10 Nov 2025) EndedAt: 2025-11-10 16:54:09 -0500 (Mon, 10 Nov 2025) EllapsedTime: 32.4 seconds RetCode: 0 Status: OK PackageFile: maskBAD_1.54.0.tar.gz PackageFileSize: 1.542 MiB