Package: maskBAD Version: 1.54.0 Command: rm -rf maskBAD.buildbin-libdir && mkdir maskBAD.buildbin-libdir && /Users/biocbuild/BBS/utils/build-universal.sh maskBAD_1.54.0.tar.gz /Library/Frameworks/R.framework/Resources/bin/R maskBAD.buildbin-libdir StartedAt: 2025-11-10 23:25:33 -0500 (Mon, 10 Nov 2025) EndedAt: 2025-11-10 23:25:38 -0500 (Mon, 10 Nov 2025) EllapsedTime: 5.1 seconds RetCode: 0 Status: OK PackageFile: maskBAD_1.54.0.tgz PackageFileSize: 1.587 MiB