Package: maser Version: 1.28.0 Command: /home/biocbuild/bbs-3.22-bioc/R/bin/R CMD INSTALL maser StartedAt: 2025-10-31 15:59:00 -0400 (Fri, 31 Oct 2025) EndedAt: 2025-10-31 15:59:55 -0400 (Fri, 31 Oct 2025) EllapsedTime: 55.3 seconds RetCode: 0 Status: OK