Package: maser Version: 1.28.0 Command: /home/biocbuild/bbs-3.22-bioc/R/bin/R CMD build --keep-empty-dirs --no-resave-data --md5 maser StartedAt: 2025-11-03 18:29:41 -0500 (Mon, 03 Nov 2025) EndedAt: 2025-11-03 18:32:06 -0500 (Mon, 03 Nov 2025) EllapsedTime: 145.1 seconds RetCode: 0 Status: OK PackageFile: maser_1.28.0.tar.gz PackageFileSize: 2.922 MiB