Package: martini Version: 1.30.0 Command: /home/biocbuild/bbs-3.22-bioc/R/bin/R CMD build --keep-empty-dirs --no-resave-data --md5 martini StartedAt: 2025-11-17 21:50:19 -0500 (Mon, 17 Nov 2025) EndedAt: 2025-11-17 21:50:44 -0500 (Mon, 17 Nov 2025) EllapsedTime: 25.0 seconds RetCode: 0 Status: OK PackageFile: martini_1.30.0.tar.gz PackageFileSize: 2.997 MiB