Package: marray Version: 1.86.0 Command: /home/biocbuild/R/R/bin/R CMD build --keep-empty-dirs --no-resave-data marray StartedAt: 2025-10-14 02:06:46 -0000 (Tue, 14 Oct 2025) EndedAt: 2025-10-14 02:07:29 -0000 (Tue, 14 Oct 2025) EllapsedTime: 43.0 seconds RetCode: 0 Status: OK PackageFile: marray_1.86.0.tar.gz PackageFileSize: 5.582 MiB