Back to Build/check report for BioC 3.22:   simplified   long
ABCDEFGHIJKL[M]NOPQRSTUVWXYZ

This page was generated on 2025-11-13 11:55 -0500 (Thu, 13 Nov 2025).

HostnameOSArch (*)R versionInstalled pkgs
taishanLinux (openEuler 24.03 LTS)aarch644.5.0 (2025-04-11) -- "How About a Twenty-Six" 4668
Click on any hostname to see more info about the system (e.g. compilers)      (*) as reported by 'uname -p', except on Windows and Mac OS X

All results for package marray


To the developers/maintainers of the marray package:
- Allow up to 24 hours (and sometimes 48 hours) for your latest push to git@git.bioconductor.org:packages/marray.git to reflect on this report. See Troubleshooting Build Report for more information.
- Use the following Renviron settings to reproduce errors and warnings.
- If 'R CMD check' started to fail recently on the Linux builder(s) over a missing dependency, add the missing dependency to 'Suggests:' in your DESCRIPTION file. See Renviron.bioc for more information.

raw results

Package 1192/2361HostnameOS / ArchINSTALLBUILDCHECKBUILD BIN
marray 1.88.0  (landing page)
Yee Hwa (Jean) Yang
Snapshot Date: 2025-11-12 13:45 -0500 (Wed, 12 Nov 2025)
git_url: https://git.bioconductor.org/packages/marray
git_branch: RELEASE_3_22
git_last_commit: 5ff7e84
git_last_commit_date: 2025-10-29 09:54:52 -0500 (Wed, 29 Oct 2025)
taishanLinux (openEuler 24.03 LTS) / aarch64  OK    OK    OK  



Results for Bioconductor software packages that depend directly on package marray

QUICK STATSOS / ArchINSTALLBUILDCHECKBUILD BIN
taishanLinux (openEuler 24.03 LTS) / aarch64
0017
0017
02510
Package 1/17HostnameOS / ArchINSTALLBUILDCHECKBUILD BIN
arrayQuality 1.88.0  (landing page)
Agnes Paquet
git_last_commit: 8c022a8
git_last_commit_date: 2025-10-29 09:54:41 -0500
taishanLinux (openEuler 24.03 LTS) / aarch64  OK    OK    WARNINGS  
Package 2/17HostnameOS / ArchINSTALLBUILDCHECKBUILD BIN
CGHbase 1.70.0  (landing page)
Mark van de Wiel
git_last_commit: 7351416
git_last_commit_date: 2025-10-29 10:00:38 -0500
taishanLinux (openEuler 24.03 LTS) / aarch64  OK    OK    OK  
Package 3/17HostnameOS / ArchINSTALLBUILDCHECKBUILD BIN
ChAMP 2.40.0  (landing page)
Yuan Tian
git_last_commit: fa068cf
git_last_commit_date: 2025-10-29 10:17:05 -0500
taishanLinux (openEuler 24.03 LTS) / aarch64  OK    OK    WARNINGS  
Package 4/17HostnameOS / ArchINSTALLBUILDCHECKBUILD BIN
convert 1.86.0  (landing page)
Yee Hwa (Jean) Yang
git_last_commit: df54982
git_last_commit_date: 2025-10-29 09:54:55 -0500
taishanLinux (openEuler 24.03 LTS) / aarch64  OK    OK    OK  
Package 5/17HostnameOS / ArchINSTALLBUILDCHECKBUILD BIN
dyebias 1.70.0  (landing page)
Philip Lijnzaad
git_last_commit: 7a5438a
git_last_commit_date: 2025-10-29 10:02:35 -0500
taishanLinux (openEuler 24.03 LTS) / aarch64  OK    OK    OK  
Package 6/17HostnameOS / ArchINSTALLBUILDCHECKBUILD BIN
methylPipe 1.44.0  (landing page)
Mattia Furlan
git_last_commit: ba28f43
git_last_commit_date: 2025-10-29 10:21:09 -0500
taishanLinux (openEuler 24.03 LTS) / aarch64  OK    OK    WARNINGS  
Package 7/17HostnameOS / ArchINSTALLBUILDCHECKBUILD BIN
MineICA 1.50.0  (landing page)
Anne Biton
git_last_commit: dc9c2eb
git_last_commit_date: 2025-10-29 10:13:40 -0500
taishanLinux (openEuler 24.03 LTS) / aarch64  OK    OK    ERROR  
Package 8/17HostnameOS / ArchINSTALLBUILDCHECKBUILD BIN
MSstats 4.18.0  (landing page)
Meena Choi
git_last_commit: 1173853
git_last_commit_date: 2025-10-29 10:16:50 -0500
taishanLinux (openEuler 24.03 LTS) / aarch64  OK    OK    WARNINGS  
Package 9/17HostnameOS / ArchINSTALLBUILDCHECKBUILD BIN
MSstatsShiny 1.12.0  (landing page)
Anthony Wu
git_last_commit: bc76da8
git_last_commit_date: 2025-10-29 11:20:02 -0500
taishanLinux (openEuler 24.03 LTS) / aarch64  OK    OK    WARNINGS  
Package 10/17HostnameOS / ArchINSTALLBUILDCHECKBUILD BIN
nnNorm 2.74.0  (landing page)
Adi Laurentiu Tarca
git_last_commit: d63e597
git_last_commit_date: 2025-10-29 09:55:21 -0500
taishanLinux (openEuler 24.03 LTS) / aarch64  OK    OK    OK  
Package 11/17HostnameOS / ArchINSTALLBUILDCHECKBUILD BIN
OLIN 1.88.0  (landing page)
Matthias Futschik
git_last_commit: d16f4f9
git_last_commit_date: 2025-10-29 09:55:15 -0500
taishanLinux (openEuler 24.03 LTS) / aarch64  OK    OK    OK  
Package 12/17HostnameOS / ArchINSTALLBUILDCHECKBUILD BIN
OLINgui 1.84.0  (landing page)
Matthias Futschik
git_last_commit: 65f1149
git_last_commit_date: 2025-10-29 09:55:35 -0500
taishanLinux (openEuler 24.03 LTS) / aarch64  OK    OK    OK  
Package 13/17HostnameOS / ArchINSTALLBUILDCHECKBUILD BIN
piano 2.26.0  (landing page)
Leif Varemo Wigge
git_last_commit: ce8c4de
git_last_commit_date: 2025-10-29 10:14:36 -0500
taishanLinux (openEuler 24.03 LTS) / aarch64  OK    OK    ERROR  
Package 14/17HostnameOS / ArchINSTALLBUILDCHECKBUILD BIN
RBM 1.42.0  (landing page)
Dongmei Li
git_last_commit: 0079f8c
git_last_commit_date: 2025-10-29 10:25:01 -0500
taishanLinux (openEuler 24.03 LTS) / aarch64  OK    OK    OK  
Package 15/17HostnameOS / ArchINSTALLBUILDCHECKBUILD BIN
stepNorm 1.82.0  (landing page)
Yuanyuan Xiao
git_last_commit: 8e8d3d5
git_last_commit_date: 2025-10-29 09:55:38 -0500
taishanLinux (openEuler 24.03 LTS) / aarch64  OK    OK    OK  
Package 16/17HostnameOS / ArchINSTALLBUILDCHECKBUILD BIN
timecourse 1.82.0  (landing page)
Yu Chuan Tai
git_last_commit: c4ca002
git_last_commit_date: 2025-10-29 09:56:54 -0500
taishanLinux (openEuler 24.03 LTS) / aarch64  OK    OK    OK  
Package 17/17HostnameOS / ArchINSTALLBUILDCHECKBUILD BIN
TurboNorm 1.58.0  (landing page)
Maarten van Iterson
git_last_commit: cadb0c6
git_last_commit_date: 2025-10-29 10:06:24 -0500
taishanLinux (openEuler 24.03 LTS) / aarch64  OK    OK    OK