Package: marr Version: 1.20.0 Command: /home/biocbuild/bbs-3.22-bioc/R/bin/R CMD INSTALL marr StartedAt: 2025-11-11 15:24:11 -0500 (Tue, 11 Nov 2025) EndedAt: 2025-11-11 15:24:42 -0500 (Tue, 11 Nov 2025) EllapsedTime: 31.8 seconds RetCode: 0 Status: OK