Package: marr Version: 1.20.0 Command: /Library/Frameworks/R.framework/Resources/bin/R CMD build --keep-empty-dirs --no-resave-data marr StartedAt: 2025-11-10 16:53:12 -0500 (Mon, 10 Nov 2025) EndedAt: 2025-11-10 16:53:32 -0500 (Mon, 10 Nov 2025) EllapsedTime: 20.2 seconds RetCode: 0 Status: OK PackageFile: marr_1.20.0.tar.gz PackageFileSize: 591.6 KiB