Package: marr Version: 1.20.0 Command: rm -rf marr.buildbin-libdir && mkdir marr.buildbin-libdir && /Users/biocbuild/BBS/utils/build-universal.sh marr_1.20.0.tar.gz /Library/Frameworks/R.framework/Resources/bin/R marr.buildbin-libdir StartedAt: 2025-11-10 23:25:29 -0500 (Mon, 10 Nov 2025) EndedAt: 2025-11-10 23:25:42 -0500 (Mon, 10 Nov 2025) EllapsedTime: 13.3 seconds RetCode: 0 Status: OK PackageFile: marr_1.20.0.tgz PackageFileSize: 809.2 KiB