Package: mapscape Version: 1.34.0 Command: /home/biocbuild/bbs-3.22-bioc/R/bin/R CMD INSTALL mapscape StartedAt: 2025-11-11 15:11:13 -0500 (Tue, 11 Nov 2025) EndedAt: 2025-11-11 15:11:53 -0500 (Tue, 11 Nov 2025) EllapsedTime: 39.8 seconds RetCode: 0 Status: OK